BEGIN:VCALENDAR
PRODID:-//Microsoft Corporation//Outlook MIMEDIR//EN
VERSION:2.0
METHOD:PUBLISH
BEGIN:VEVENT
DTSTART:20260421T170000
DTEND:20260421T180000
DESCRIPTION:3974 Durock Road, Suite 205 Shingle Springs, CA
LOCATION:https://edcgov.zoom.us/j/81267945745?pwd=bCt1lYH332zx8VlBXXCX7KM1ypkDtq.1
SUMMARY:Delinquency Prevention Commission
CATEGORIES:MEETING
END:VEVENT
END:VCALENDAR
