BEGIN:VCALENDAR
PRODID:-//Microsoft Corporation//Outlook MIMEDIR//EN
VERSION:2.0
METHOD:PUBLISH
BEGIN:VEVENT
DTSTART:20260424T130000
DTEND:20260424T140000
DESCRIPTION:200 Industrial Dr, Placerville, CA 95667
LOCATION:200 Industrial Dr, Placerville, CA 95667
SUMMARY:Community Corrections Partnership
CATEGORIES:MEETING
END:VEVENT
END:VCALENDAR
